BEGIN:VCALENDAR
VERSION:2.0
PRODID:-//Enoteca Tondelli - ECPv5.3.1//NONSGML v1.0//EN
CALSCALE:GREGORIAN
METHOD:PUBLISH
X-WR-CALNAME:Enoteca Tondelli
X-ORIGINAL-URL:http://www.enotecatondelli.it
X-WR-CALDESC:Eventi per Enoteca Tondelli
BEGIN:VTIMEZONE
TZID:Europe/Rome
BEGIN:DAYLIGHT
TZOFFSETFROM:+0100
TZOFFSETTO:+0200
TZNAME:CEST
DTSTART:20230326T010000
END:DAYLIGHT
BEGIN:STANDARD
TZOFFSETFROM:+0200
TZOFFSETTO:+0100
TZNAME:CET
DTSTART:20231029T010000
END:STANDARD
END:VTIMEZONE
BEGIN:VEVENT
DTSTART;TZID=Europe/Rome:20230720T200000
DTEND;TZID=Europe/Rome:20230720T220000
DTSTAMP:20260422T125058
CREATED:20230706T103545Z
LAST-MODIFIED:20230706T103545Z
UID:1767-1689883200-1689890400@www.enotecatondelli.it
SUMMARY:Grigliata
DESCRIPTION:Serata in collaborazione con Macelleria Lutti di Spilamberto. \nCarne grigliata sul momento!!
URL:http://www.enotecatondelli.it/event/grigliata/
LOCATION:Osteria della Luna\, piazza Boncompagni 3\, Vignola\, Modena\, 41058\, Italia
END:VEVENT
END:VCALENDAR