BEGIN:VCALENDAR
VERSION:2.0
PRODID:-//Enoteca Tondelli - ECPv5.3.1//NONSGML v1.0//EN
CALSCALE:GREGORIAN
METHOD:PUBLISH
X-WR-CALNAME:Enoteca Tondelli
X-ORIGINAL-URL:http://www.enotecatondelli.it
X-WR-CALDESC:Eventi per Enoteca Tondelli
BEGIN:VTIMEZONE
TZID:Europe/Rome
BEGIN:DAYLIGHT
TZOFFSETFROM:+0100
TZOFFSETTO:+0200
TZNAME:CEST
DTSTART:20250330T010000
END:DAYLIGHT
BEGIN:STANDARD
TZOFFSETFROM:+0200
TZOFFSETTO:+0100
TZNAME:CET
DTSTART:20251026T010000
END:STANDARD
END:VTIMEZONE
BEGIN:VEVENT
DTSTART;TZID=Europe/Rome:20251023T203000
DTEND;TZID=Europe/Rome:20251023T223000
DTSTAMP:20260420T111906
CREATED:20251017T102548Z
LAST-MODIFIED:20251017T102548Z
UID:1858-1761251400-1761258600@www.enotecatondelli.it
SUMMARY:DEGUSTAZIONE TOSCANA
DESCRIPTION:Sesta tappa delle nostre degustazioni tra le regioni d’Italia: Toscana.\nPotevamo ridimensionare questa regione in una sola degustazione? Ovviamente no!!! EPISODIO 1: LE ORIGINI\n 
URL:http://www.enotecatondelli.it/event/degustazione-toscana/
LOCATION:Osteria della Luna\, piazza Boncompagni 3\, Vignola\, Modena\, 41058\, Italia
END:VEVENT
END:VCALENDAR