BEGIN:VCALENDAR
VERSION:2.0
PRODID:-//Enoteca Tondelli - ECPv5.3.1//NONSGML v1.0//EN
CALSCALE:GREGORIAN
METHOD:PUBLISH
X-WR-CALNAME:Enoteca Tondelli
X-ORIGINAL-URL:http://www.enotecatondelli.it
X-WR-CALDESC:Eventi per Enoteca Tondelli
BEGIN:VTIMEZONE
TZID:Europe/Rome
BEGIN:DAYLIGHT
TZOFFSETFROM:+0100
TZOFFSETTO:+0200
TZNAME:CEST
DTSTART:20250330T010000
END:DAYLIGHT
BEGIN:STANDARD
TZOFFSETFROM:+0200
TZOFFSETTO:+0100
TZNAME:CET
DTSTART:20251026T010000
END:STANDARD
END:VTIMEZONE
BEGIN:VEVENT
DTSTART;TZID=Europe/Rome:20251120T203000
DTEND;TZID=Europe/Rome:20251120T223000
DTSTAMP:20260420T111733
CREATED:20251115T184105Z
LAST-MODIFIED:20251115T184105Z
UID:1866-1763670600-1763677800@www.enotecatondelli.it
SUMMARY:Degustando tra le regioni.... TRENTINO ALTO ADIGE
DESCRIPTION:
URL:http://www.enotecatondelli.it/event/degustando-tra-le-regioni-trentino-alto-adige/
LOCATION:Osteria della Luna\, piazza Boncompagni 3\, Vignola\, Modena\, 41058\, Italia
END:VEVENT
END:VCALENDAR