BEGIN:VCALENDAR
VERSION:2.0
PRODID:-//Enoteca Tondelli - ECPv5.3.1//NONSGML v1.0//EN
CALSCALE:GREGORIAN
METHOD:PUBLISH
X-WR-CALNAME:Enoteca Tondelli
X-ORIGINAL-URL:http://www.enotecatondelli.it
X-WR-CALDESC:Eventi per Enoteca Tondelli
BEGIN:VTIMEZONE
TZID:Europe/Rome
BEGIN:DAYLIGHT
TZOFFSETFROM:+0100
TZOFFSETTO:+0200
TZNAME:CEST
DTSTART:20260329T010000
END:DAYLIGHT
BEGIN:STANDARD
TZOFFSETFROM:+0200
TZOFFSETTO:+0100
TZNAME:CET
DTSTART:20261025T010000
END:STANDARD
END:VTIMEZONE
BEGIN:VEVENT
DTSTART;TZID=Europe/Rome:20260514T203000
DTEND;TZID=Europe/Rome:20260514T223000
DTSTAMP:20260422T125026
CREATED:20260418T125601Z
LAST-MODIFIED:20260418T125601Z
UID:1882-1778790600-1778797800@www.enotecatondelli.it
SUMMARY:DEGUSTANDO TRA LE REGIONI... MARCHE
DESCRIPTION:
URL:http://www.enotecatondelli.it/event/degustando-tra-le-regioni-marche/
LOCATION:Osteria della Luna\, piazza Boncompagni 3\, Vignola\, Modena\, 41058\, Italia
ORGANIZER;CN="Enoteca%20Tondelli":MAILTO:info@enotecatondelli.it
END:VEVENT
END:VCALENDAR